BEGIN:VCALENDAR
VERSION:2.0
PRODID:-//South Jackson Performing Arts Center - ECPv6.15.13.1//NONSGML v1.0//EN
CALSCALE:GREGORIAN
METHOD:PUBLISH
X-WR-CALNAME:South Jackson Performing Arts Center
X-ORIGINAL-URL:https://southjackson.org
X-WR-CALDESC:Events for South Jackson Performing Arts Center
REFRESH-INTERVAL;VALUE=DURATION:PT1H
X-Robots-Tag:noindex
X-PUBLISHED-TTL:PT1H
BEGIN:VTIMEZONE
TZID:America/Chicago
BEGIN:DAYLIGHT
TZOFFSETFROM:-0600
TZOFFSETTO:-0500
TZNAME:CDT
DTSTART:20250309T080000
END:DAYLIGHT
BEGIN:STANDARD
TZOFFSETFROM:-0500
TZOFFSETTO:-0600
TZNAME:CST
DTSTART:20251102T070000
END:STANDARD
BEGIN:DAYLIGHT
TZOFFSETFROM:-0600
TZOFFSETTO:-0500
TZNAME:CDT
DTSTART:20260308T080000
END:DAYLIGHT
BEGIN:STANDARD
TZOFFSETFROM:-0500
TZOFFSETTO:-0600
TZNAME:CST
DTSTART:20261101T070000
END:STANDARD
BEGIN:DAYLIGHT
TZOFFSETFROM:-0600
TZOFFSETTO:-0500
TZNAME:CDT
DTSTART:20270314T080000
END:DAYLIGHT
BEGIN:STANDARD
TZOFFSETFROM:-0500
TZOFFSETTO:-0600
TZNAME:CST
DTSTART:20271107T070000
END:STANDARD
END:VTIMEZONE
BEGIN:VEVENT
DTSTART;VALUE=DATE:20260601
DTEND;VALUE=DATE:20260606
DTSTAMP:20260420T150130
CREATED:20260418T192242Z
LAST-MODIFIED:20260418T194841Z
UID:2907-1780272000-1780703999@southjackson.org
SUMMARY:Summer Drama Camp - Broadway Through Time (A Musical Journey)
DESCRIPTION:1 Child Admission\n\n$\n100\n\n\n\n\n\nAdmission for 2\n\n$\n175\n\n\n\n\n\nAdmission for 3\n\n$\n250\n\n\n\n\n\n\n\n\n\n\n2026 1st-12th Grade Child Registration\n\n \n\n\n\n\n\n\n\n\n\n2026 Camp Counselor Registration (Ages 19+)\n\n \n\n\n\n\n\n\n\nWe are excited to announce our 2026 Summer Drama Camp.\nBroadway Through Time – A Musical Journey\nOur Summer Drama Camp is for those who are going\ninto the First Grade in the Fall of 2026 all the way to twelfth grade.\n\nJune 1-5\, 2026\nDaily from 8am-5pm\n\nRegister your child today!\n  \nThis camp will be limited to 𝟏𝟎 𝐜𝐚𝐦𝐩𝐞𝐫𝐬 𝐩𝐞𝐫 𝐠𝐫𝐨𝐮𝐩 𝐟𝐨𝐫 𝐠𝐫𝐚𝐝𝐞𝐬 𝟏–𝟖 𝐚𝐧𝐝 𝟏𝟓 𝐜𝐚𝐦𝐩𝐞𝐫𝐬 𝐩𝐞𝐫 𝐠𝐫𝐨𝐮𝐩 𝐟𝐨𝐫 𝐠𝐫𝐚𝐝𝐞𝐬 𝟗–𝟏𝟐. \n𝐑𝐞𝐠𝐢𝐬𝐭𝐫𝐚𝐭𝐢𝐨𝐧 𝐰𝐢𝐥𝐥 𝐜𝐥𝐨𝐬𝐞 𝐨𝐧 𝐌𝐚𝐲 𝟏𝟖𝐭𝐡. \nOnce the limit is reached\, no additional registrations will be accepted. 𝐓𝐡𝐢𝐬 𝐰𝐢𝐥𝐥 𝐛𝐞 𝐅𝐢𝐫𝐬𝐭 𝐂𝐨𝐦𝐞 𝐅𝐢𝐫𝐬𝐭 𝐒𝐞𝐫𝐯𝐞! \n  \n***Camp Counselor applications are currently being accepted for consideration!***
URL:https://southjackson.org/sjevent/summer-drama-camp-broadway-through-time-a-musical-journey/
LOCATION:SJPAC\, 404 South Jackson Street\, Tullahoma\, TN\, 37388\, United States
CATEGORIES:Special Event
ATTACH;FMTTYPE=image/png:https://southjackson.org/wp-content/uploads/2023/10/Special-Event-Banner.png
END:VEVENT
END:VCALENDAR