BEGIN:VCALENDAR
VERSION:2.0
PRODID:-//South Jackson Performing Arts Center - ECPv6.15.13.1//NONSGML v1.0//EN
CALSCALE:GREGORIAN
METHOD:PUBLISH
X-WR-CALNAME:South Jackson Performing Arts Center
X-ORIGINAL-URL:https://southjackson.org
X-WR-CALDESC:Events for South Jackson Performing Arts Center
REFRESH-INTERVAL;VALUE=DURATION:PT1H
X-Robots-Tag:noindex
X-PUBLISHED-TTL:PT1H
BEGIN:VTIMEZONE
TZID:America/Chicago
BEGIN:DAYLIGHT
TZOFFSETFROM:-0600
TZOFFSETTO:-0500
TZNAME:CDT
DTSTART:20250309T080000
END:DAYLIGHT
BEGIN:STANDARD
TZOFFSETFROM:-0500
TZOFFSETTO:-0600
TZNAME:CST
DTSTART:20251102T070000
END:STANDARD
BEGIN:DAYLIGHT
TZOFFSETFROM:-0600
TZOFFSETTO:-0500
TZNAME:CDT
DTSTART:20260308T080000
END:DAYLIGHT
BEGIN:STANDARD
TZOFFSETFROM:-0500
TZOFFSETTO:-0600
TZNAME:CST
DTSTART:20261101T070000
END:STANDARD
BEGIN:DAYLIGHT
TZOFFSETFROM:-0600
TZOFFSETTO:-0500
TZNAME:CDT
DTSTART:20270314T080000
END:DAYLIGHT
BEGIN:STANDARD
TZOFFSETFROM:-0500
TZOFFSETTO:-0600
TZNAME:CST
DTSTART:20271107T070000
END:STANDARD
END:VTIMEZONE
BEGIN:VEVENT
DTSTART;VALUE=DATE:20260524
DTEND;VALUE=DATE:20260526
DTSTAMP:20260420T023655
CREATED:20260213T020332Z
LAST-MODIFIED:20260317T030600Z
UID:2839-1779580800-1779753599@southjackson.org
SUMMARY:Ghost Army
DESCRIPTION:Admission\n\n$\n8-15\n\n\n\n\n\n\n\n\n\n\n2:30pm - Sunday\, May 24th - BUY TICKETS HERE!\n\n \n\n\n\n\n\n\n\n\n\n7pm - Monday\, May 25th - BUY TICKETS HERE!\n\n \n\n\n\n\n\n\n\n\nJoin us for a fascinating presentation by acclaimed\nauthor & filmmaker Rick Beyer as he shares the incredible\nstory of the Ghost Army – the top-secret WWII deception\nunit that was formed right here in Tullahoma!\nDon’t miss this chance to hear about:\nHow Camp Forrest became the birthplace of military deception. \nMind-blowing tactics that fooled the Nazis. \nArtists who served (including fashion designer Bill Blass!) \nWhy this story still resonates 80 years later. \nSunday\, May 24th at 2:30pm\nor\nMonday\, May 25th (Memorial Day) at 7:00pm\n\n  \n\n\nNOTE: Online sales will be available until 2 hours prior to showtime. \nLimited at the door tickets will then be available onsite.
URL:https://southjackson.org/sjevent/ghost-army/
LOCATION:Main Stage\, 404 South Jackson Street\, Tullahoma\, TN\, 37388\, United States
CATEGORIES:Main Stage,Special Event
ATTACH;FMTTYPE=image/png:https://southjackson.org/wp-content/uploads/2026/02/Ghost-Army.png
END:VEVENT
END:VCALENDAR