BEGIN:VCALENDAR
VERSION:2.0
PRODID:-//South Jackson Performing Arts Center - ECPv6.15.13.1//NONSGML v1.0//EN
CALSCALE:GREGORIAN
METHOD:PUBLISH
X-ORIGINAL-URL:https://southjackson.org
X-WR-CALDESC:Events for South Jackson Performing Arts Center
REFRESH-INTERVAL;VALUE=DURATION:PT1H
X-Robots-Tag:noindex
X-PUBLISHED-TTL:PT1H
BEGIN:VTIMEZONE
TZID:America/Chicago
BEGIN:DAYLIGHT
TZOFFSETFROM:-0600
TZOFFSETTO:-0500
TZNAME:CDT
DTSTART:20250309T080000
END:DAYLIGHT
BEGIN:STANDARD
TZOFFSETFROM:-0500
TZOFFSETTO:-0600
TZNAME:CST
DTSTART:20251102T070000
END:STANDARD
BEGIN:DAYLIGHT
TZOFFSETFROM:-0600
TZOFFSETTO:-0500
TZNAME:CDT
DTSTART:20260308T080000
END:DAYLIGHT
BEGIN:STANDARD
TZOFFSETFROM:-0500
TZOFFSETTO:-0600
TZNAME:CST
DTSTART:20261101T070000
END:STANDARD
BEGIN:DAYLIGHT
TZOFFSETFROM:-0600
TZOFFSETTO:-0500
TZNAME:CDT
DTSTART:20270314T080000
END:DAYLIGHT
BEGIN:STANDARD
TZOFFSETFROM:-0500
TZOFFSETTO:-0600
TZNAME:CST
DTSTART:20271107T070000
END:STANDARD
END:VTIMEZONE
BEGIN:VEVENT
DTSTART;VALUE=DATE:20260424
DTEND;VALUE=DATE:20260427
DTSTAMP:20260423T150745
CREATED:20260120T011326Z
LAST-MODIFIED:20260418T190540Z
UID:2750-1776988800-1777247999@southjackson.org
SUMMARY:The Enchanted Bookshop - TEACH
DESCRIPTION:Admission\n\n$\n15\n\n\n\n\n\n\n\n\n\n\n7pm - Friday\, April 24th - BUY TICKETS HERE!\n\n \n\n\n\n\n\n\n\n\n\n7pm - Saturday\, April 25th - BUY TICKETS HERE!\n\n \n\n\n\n\n\n\n\n\n\n2:30pm - Sunday\, April 26th - BUY TICKETS HERE!\n\n \n\n\n\n\n\n\n\n\nTEACH brings The Enchanted Bookshop to life this April!\n  \nApril 24-26\, 2026\n  \nMain Stage at South Jackson Performing Arts Center\n  \nNOTE: Online sales will be available until 2 hours prior to showtime. \nLimited at the door tickets will then be available during the 2 hours \nprior to the event at the Ticket Counter/Will Call.
URL:https://southjackson.org/sjevent/the-enchanted-bookshop-teach/
LOCATION:Main Stage\, 404 South Jackson Street\, Tullahoma\, TN\, 37388\, United States
CATEGORIES:Main Stage,TEACH
ATTACH;FMTTYPE=image/jpeg:https://southjackson.org/wp-content/uploads/2026/01/enchanted-bookshop-logo-2.jpeg
END:VEVENT
BEGIN:VEVENT
DTSTART;VALUE=DATE:20260717
DTEND;VALUE=DATE:20260727
DTSTAMP:20260423T150745
CREATED:20260120T025724Z
LAST-MODIFIED:20260120T030259Z
UID:2759-1784246400-1785110399@southjackson.org
SUMMARY:Mary Poppins The Broadway Musical
DESCRIPTION:Admission\n\n$\n18-30\n\n\n\n\n\n\n\n\n\n\n7pm - Friday\, July 17th - TICKETS COMING SOON!\n\n \n\n\n\n\n\n\n\n\n\n7pm - Saturday\, July 18th - TICKETS COMING SOON!\n\n \n\n\n\n\n\n\n\n\n\n2:30pm - Sunday\, July 19th - TICKETS COMING SOON!\n\n \n\n\n\n\n\n\n\n\n\n7pm - Friday\, July 24th - TICKETS COMING SOON!\n\n \n\n\n\n\n\n\n\n\n\n7pm - Saturday\, July 25th - TICKETS COMING SOON!\n\n \n\n\n\n\n\n\n\n\n\n2:30pm - Sunday\, July 26th - TICKETS COMING SOON!\n\n \n\n\n\n\n\n\n\n\nEnjoy this practically perfect musical as it\ntakes the stage this summer!\nJoin Mary\, Bert\, and the Banks Family\nas they bring a blend of\nboth the popular book and movie to life!\n  \nJuly 17-26\, 2026\n  \nMain Stage at South Jackson Performing Arts Center\n  \nTickets Coming Soon!
URL:https://southjackson.org/sjevent/mary-poppins-the-broadway-musical/
LOCATION:Main Stage\, 404 South Jackson Street\, Tullahoma\, TN\, 37388\, United States
CATEGORIES:Main Stage,Musical,PACT
ATTACH;FMTTYPE=image/jpeg:https://southjackson.org/wp-content/uploads/2025/12/MARY_POPPINS_Full_4C.jpg
END:VEVENT
END:VCALENDAR