BEGIN:VCALENDAR
VERSION:2.0
PRODID:-//South Jackson Performing Arts Center - ECPv6.15.13.1//NONSGML v1.0//EN
CALSCALE:GREGORIAN
METHOD:PUBLISH
X-ORIGINAL-URL:https://southjackson.org
X-WR-CALDESC:Events for South Jackson Performing Arts Center
REFRESH-INTERVAL;VALUE=DURATION:PT1H
X-Robots-Tag:noindex
X-PUBLISHED-TTL:PT1H
BEGIN:VTIMEZONE
TZID:America/Chicago
BEGIN:DAYLIGHT
TZOFFSETFROM:-0600
TZOFFSETTO:-0500
TZNAME:CDT
DTSTART:20250309T080000
END:DAYLIGHT
BEGIN:STANDARD
TZOFFSETFROM:-0500
TZOFFSETTO:-0600
TZNAME:CST
DTSTART:20251102T070000
END:STANDARD
BEGIN:DAYLIGHT
TZOFFSETFROM:-0600
TZOFFSETTO:-0500
TZNAME:CDT
DTSTART:20260308T080000
END:DAYLIGHT
BEGIN:STANDARD
TZOFFSETFROM:-0500
TZOFFSETTO:-0600
TZNAME:CST
DTSTART:20261101T070000
END:STANDARD
BEGIN:DAYLIGHT
TZOFFSETFROM:-0600
TZOFFSETTO:-0500
TZNAME:CDT
DTSTART:20270314T080000
END:DAYLIGHT
BEGIN:STANDARD
TZOFFSETFROM:-0500
TZOFFSETTO:-0600
TZNAME:CST
DTSTART:20271107T070000
END:STANDARD
END:VTIMEZONE
BEGIN:VEVENT
DTSTART;VALUE=DATE:20260411
DTEND;VALUE=DATE:20260412
DTSTAMP:20260423T183726
CREATED:20260119T220832Z
LAST-MODIFIED:20260411T040350Z
UID:2726-1775865600-1775951999@southjackson.org
SUMMARY:Piping on the Green 2026
DESCRIPTION:Admission\n\n$\nFREE!\n\n\n\n\n\n\n\nThe 12th Annual Piping on the Green\nwill take over the grounds at\nSJPAC once again this April!\n\nSaturday\, April 11\, 2026\nFree Admission – fun for the whole family\, grab your lawn chair and stay for the day! \n  \nCLICK HERE FOR MORE DETAILS on our Partner’s Website: \nThe Highland Rim Scottish Society\n 
URL:https://southjackson.org/sjevent/piping-on-the-green-2026/
LOCATION:Jackson Square Park\, 404 South Jackson Street\, Tullahoma\, TN\, 37388\, United States
CATEGORIES:Special Event
ATTACH;FMTTYPE=image/jpeg:https://southjackson.org/wp-content/uploads/2026/01/623449400_1366091461983602_8406223978802408316_n.jpeg
END:VEVENT
END:VCALENDAR