BEGIN:VCALENDAR
VERSION:2.0
PRODID:-//South Jackson Performing Arts Center - ECPv6.15.13.1//NONSGML v1.0//EN
CALSCALE:GREGORIAN
METHOD:PUBLISH
X-ORIGINAL-URL:https://southjackson.org
X-WR-CALDESC:Events for South Jackson Performing Arts Center
REFRESH-INTERVAL;VALUE=DURATION:PT1H
X-Robots-Tag:noindex
X-PUBLISHED-TTL:PT1H
BEGIN:VTIMEZONE
TZID:America/Chicago
BEGIN:DAYLIGHT
TZOFFSETFROM:-0600
TZOFFSETTO:-0500
TZNAME:CDT
DTSTART:20250309T080000
END:DAYLIGHT
BEGIN:STANDARD
TZOFFSETFROM:-0500
TZOFFSETTO:-0600
TZNAME:CST
DTSTART:20251102T070000
END:STANDARD
BEGIN:DAYLIGHT
TZOFFSETFROM:-0600
TZOFFSETTO:-0500
TZNAME:CDT
DTSTART:20260308T080000
END:DAYLIGHT
BEGIN:STANDARD
TZOFFSETFROM:-0500
TZOFFSETTO:-0600
TZNAME:CST
DTSTART:20261101T070000
END:STANDARD
BEGIN:DAYLIGHT
TZOFFSETFROM:-0600
TZOFFSETTO:-0500
TZNAME:CDT
DTSTART:20270314T080000
END:DAYLIGHT
BEGIN:STANDARD
TZOFFSETFROM:-0500
TZOFFSETTO:-0600
TZNAME:CST
DTSTART:20271107T070000
END:STANDARD
END:VTIMEZONE
BEGIN:VEVENT
DTSTART;VALUE=DATE:20260320
DTEND;VALUE=DATE:20260330
DTSTAMP:20260423T190249
CREATED:20260119T214440Z
LAST-MODIFIED:20260130T021930Z
UID:2717-1773964800-1774828799@southjackson.org
SUMMARY:A Chorus Line
DESCRIPTION:Admission\n\n$\n18-30\n\n\n\n\n\n\n\n\n\n\n7pm - Friday\, Mar 20th - BUY TICKETS HERE!\n\n \n\n\n\n\n\n\n\n\n\n7pm - Saturday\, Mar 21st - BUY TICKETS HERE!\n\n \n\n\n\n\n\n\n\n\n\n2:30pm - Sunday\, Mar 22nd - BUY TICKETS HERE!\n\n \n\n\n\n\n\n\n\n\n\n7pm - Friday\, Mar 27th - BUY TICKETS HERE!\n\n \n\n\n\n\n\n\n\n\n\n7pm - Saturday\, Mar 28th - BUY TICKETS HERE!\n\n \n\n\n\n\n\n\n\n\n\n2:30pm - Sunday\, Mar 29th - BUY TICKETS HERE!\n\n \n\n\n\n\n\n\n\n\nA Chorus Line dances its way into Tullahoma this March!\nMarch 20-29\, 2026\nMain Stage at South Jackson Performing Arts Center\n\n\nNOTE: Online sales will be available until 2 hours prior to showtime. \nLimited at the door tickets will then be available during the 2 hours \nprior to the event at the Ticket Counter/Will Call.
URL:https://southjackson.org/sjevent/a-chorus-line/
LOCATION:Main Stage\, 404 South Jackson Street\, Tullahoma\, TN\, 37388\, United States
CATEGORIES:Community Playhouse Theatre Series,Main Stage,Musical
END:VEVENT
END:VCALENDAR