BEGIN:VCALENDAR
VERSION:2.0
PRODID:-//South Jackson Performing Arts Center - ECPv6.15.13.1//NONSGML v1.0//EN
CALSCALE:GREGORIAN
METHOD:PUBLISH
X-ORIGINAL-URL:https://southjackson.org
X-WR-CALDESC:Events for South Jackson Performing Arts Center
REFRESH-INTERVAL;VALUE=DURATION:PT1H
X-Robots-Tag:noindex
X-PUBLISHED-TTL:PT1H
BEGIN:VTIMEZONE
TZID:America/Chicago
BEGIN:DAYLIGHT
TZOFFSETFROM:-0600
TZOFFSETTO:-0500
TZNAME:CDT
DTSTART:20250309T080000
END:DAYLIGHT
BEGIN:STANDARD
TZOFFSETFROM:-0500
TZOFFSETTO:-0600
TZNAME:CST
DTSTART:20251102T070000
END:STANDARD
BEGIN:DAYLIGHT
TZOFFSETFROM:-0600
TZOFFSETTO:-0500
TZNAME:CDT
DTSTART:20260308T080000
END:DAYLIGHT
BEGIN:STANDARD
TZOFFSETFROM:-0500
TZOFFSETTO:-0600
TZNAME:CST
DTSTART:20261101T070000
END:STANDARD
BEGIN:DAYLIGHT
TZOFFSETFROM:-0600
TZOFFSETTO:-0500
TZNAME:CDT
DTSTART:20270314T080000
END:DAYLIGHT
BEGIN:STANDARD
TZOFFSETFROM:-0500
TZOFFSETTO:-0600
TZNAME:CST
DTSTART:20271107T070000
END:STANDARD
END:VTIMEZONE
BEGIN:VEVENT
DTSTART;VALUE=DATE:20260220
DTEND;VALUE=DATE:20260302
DTSTAMP:20260423T190054
CREATED:20251224T214556Z
LAST-MODIFIED:20260119T212238Z
UID:2669-1771545600-1772409599@southjackson.org
SUMMARY:Little Women the Musical
DESCRIPTION:Admission\n\n$\n18-30\n\n\n\n\n\n\n\n\n\n\n7pm - Friday\, Feb 20th - BUY TICKETS HERE!\n\n \n\n\n\n\n\n\n\n\n\n7pm - Saturday\, Feb 21st - BUY TICKETS HERE!\n\n \n\n\n\n\n\n\n\n\n\n2:30pm - Sunday\, Feb 22nd - BUY TICKETS HERE!\n\n \n\n\n\n\n\n\n\n\n\n7pm - Friday\, Feb 27th - BUY TICKETS HERE!\n\n \n\n\n\n\n\n\n\n\n\n7pm - Saturday\, Feb 28th - BUY TICKETS HERE!\n\n \n\n\n\n\n\n\n\n\n\n2:30pm - Sunday\, Mar 1st - BUY TICKETS HERE!\n\n \n\n\n\n\n\n\n\n\nLouisa May Alcott’s beloved story of the adventures\nof the four March sisters is brought to vivid musical life in\nLittle Women: The Broadway Musical. \nThe Civil War is in full swing\, and the March sisters –\nMeg\, Jo\, Beth\, and Amy dream their individual dreams\nand face challenges growing up.\n  \nFebruary 20-March 1\, 2026\n  \nMain Stage at South Jackson Performing Arts Center\n  \nNOTE: Online sales will be available until 2 hours prior to showtime. \nLimited at the door tickets will then be available during the 2 hours \nprior to the event at the Ticket Counter/Will Call.
URL:https://southjackson.org/sjevent/little-women-the-musical/
LOCATION:Main Stage\, 404 South Jackson Street\, Tullahoma\, TN\, 37388\, United States
CATEGORIES:Community Playhouse Theatre Series,Main Stage,Musical
ATTACH;FMTTYPE=image/jpeg:https://southjackson.org/wp-content/uploads/2025/09/LITTLE-WOMEN-logo-2025-square-1.jpg
END:VEVENT
END:VCALENDAR